BEGIN:VCALENDAR
VERSION:2.0
PRODID:-//eventon.com NONSGML v1.0//EN
CALSCALE:GREGORIAN
METHOD:PUBLISH
BEGIN:VEVENT
UID:69ed3faa0f6c9
DTSTAMP:20260425T222650Z
DTSTART:20240620T144100Z
DTEND:20240620T144100Z
LOCATION:
SUMMARY:Creative Writing Competition on Yoga
DESCRIPTION:Celebrating the Creative Writing Competition on Yoga We are del
 ighted to share that the Creative Writing Competition on Yoga at Nalini Dev
 i Women&#8217;s College of Teachers Education was a resounding success! The
  event showcased the incredible talent and creativity of our students\,  wh
 o explored the profound benefits of yoga through[..]\nhttps://nalinideviwom
 enscte.ac.in/events/creative-writing-competition-on-yoga/
URL:https://nalinideviwomenscte.ac.in/events/creative-writing-competition-on-yoga/
END:VEVENT
END:VCALENDAR